BEGIN:VCALENDAR
PRODID:-//eluceo/ical//2.0/EN
VERSION:2.0
CALSCALE:GREGORIAN
BEGIN:VEVENT
UID:40cc31932f2ef91c6ed1bbd5e214c30a
DTSTAMP:20260420T110205Z
SUMMARY:Pilatus Seilpark
DESCRIPTION:Relatore/i: 
URL:https://rotaract-sempachersee.ch/it/agenda/show/132134
DTSTART;TZID=Europe/Zurich:20210918T133000
DTEND;TZID=Europe/Zurich:20210918T190000
LOCATION:Sursee / Luzern
CATEGORIES:Rotaract
END:VEVENT
BEGIN:VTIMEZONE
TZID:Europe/Zurich
BEGIN:DAYLIGHT
DTSTART:20210918T133000
TZNAME:CEST
TZOFFSETTO:+0200
TZOFFSETFROM:+0200
END:DAYLIGHT
END:VTIMEZONE
END:VCALENDAR
