BEGIN:VCALENDAR
PRODID:-//eluceo/ical//2.0/EN
VERSION:2.0
CALSCALE:GREGORIAN
BEGIN:VEVENT
UID:c5d9753d11f8cbd4305693cb2270af1d
DTSTAMP:20260421T083806Z
SUMMARY:Speliobig
DESCRIPTION:Vefsíða: https://rotaract-luzern.ch/de/agenda/show/132429
URL:https://rotaract-sempachersee.ch/is/agenda/show/132674
DTSTART;TZID=Europe/Zurich:20211127T190000
DTEND;TZID=Europe/Zurich:20211127T230000
LOCATION:Allewindeturm\, Luzern
CATEGORIES:Rotaract
END:VEVENT
BEGIN:VTIMEZONE
TZID:Europe/Zurich
BEGIN:STANDARD
DTSTART:20211127T190000
TZNAME:CET
TZOFFSETTO:+0100
TZOFFSETFROM:+0100
END:STANDARD
END:VTIMEZONE
END:VCALENDAR
