BEGIN:VCALENDAR
PRODID:-//eluceo/ical//2.0/EN
VERSION:2.0
CALSCALE:GREGORIAN
BEGIN:VEVENT
UID:a3e764ea4f8d2c5f1a49b3b6891e06cd
DTSTAMP:20260421T081855Z
SUMMARY:Stamm im Wyhof Sursee + Besuch des Rotary Distrikt Governors
DESCRIPTION:An diesem Abend dürfen wir an unserem Stamm einen speziellen G
 ast begrüssen: den diesjährigen Rotary Governor des Distrikts 1980 Urs K
 lemm\nVefsíða: http://www.wyhof.ch/\nFyrirlesari(ar): Distrikt Governor 
 2014/15 Urs Klemm
URL:https://rotaract-sempachersee.ch/is/agenda/show/120428
DTSTART;TZID=Europe/Zurich:20141128T200000
DTEND;TZID=Europe/Zurich:20141128T230000
LOCATION:Restaurant Wyhof Sursee
CATEGORIES:Rotaract
END:VEVENT
BEGIN:VTIMEZONE
TZID:Europe/Zurich
BEGIN:STANDARD
DTSTART:20141128T200000
TZNAME:CET
TZOFFSETTO:+0100
TZOFFSETFROM:+0100
END:STANDARD
END:VTIMEZONE
END:VCALENDAR
