BEGIN:VCALENDAR
PRODID:-//eluceo/ical//2.0/EN
VERSION:2.0
CALSCALE:GREGORIAN
BEGIN:VEVENT
UID:5621de97ad6a6033da14bd0d3ce4e9b9
DTSTAMP:20260425T111511Z
SUMMARY:DEUKO 2022 IN DORTMUND
DESCRIPTION:Website: https://deuko.rotaract.de/#
URL:https://rotaract.ch/en/agenda/show/133994
DTSTART;TZID=Europe/Zurich:20220318T120000
DTEND;TZID=Europe/Zurich:20220320T140000
LOCATION:Dortmund\, Germany
CATEGORIES:Rotaract
END:VEVENT
BEGIN:VTIMEZONE
TZID:Europe/Zurich
BEGIN:STANDARD
DTSTART:20220318T120000
TZNAME:CET
TZOFFSETTO:+0100
TZOFFSETFROM:+0100
END:STANDARD
END:VTIMEZONE
END:VCALENDAR
