BEGIN:VCALENDAR
PRODID:-//eluceo/ical//2.0/EN
VERSION:2.0
CALSCALE:GREGORIAN
BEGIN:VEVENT
UID:2576072428c6f3a71bdbbde8d8b4e8ed
DTSTAMP:20260421T100151Z
SUMMARY:Weinwanderung
DESCRIPTION:
URL:https://rotaract-sempachersee.ch/en/agenda/show/124627
DTSTART;TZID=Europe/Zurich:20210710T140000
DTEND;TZID=Europe/Zurich:20210710T234500
LOCATION:Um Sursee - Wird noch genau bekanntgegeben
CATEGORIES:Rotaract
END:VEVENT
BEGIN:VTIMEZONE
TZID:Europe/Zurich
BEGIN:DAYLIGHT
DTSTART:20210710T140000
TZNAME:CEST
TZOFFSETTO:+0200
TZOFFSETFROM:+0200
END:DAYLIGHT
END:VTIMEZONE
END:VCALENDAR
