BEGIN:VCALENDAR
PRODID:-//eluceo/ical//2.0/EN
VERSION:2.0
CALSCALE:GREGORIAN
BEGIN:VEVENT
UID:4d9e150c0af896dfa2526f32e6d2f9dc
DTSTAMP:20260422T092117Z
SUMMARY:Schneesporttag & Mini GV
DESCRIPTION:
URL:https://rotaract-sempachersee.ch/de/agenda/show/132677
DTSTART;TZID=Europe/Zurich:20220205T090000
DTEND;TZID=Europe/Zurich:20220205T180000
LOCATION:Im Schnee
CATEGORIES:Rotaract
END:VEVENT
BEGIN:VTIMEZONE
TZID:Europe/Zurich
BEGIN:STANDARD
DTSTART:20220205T090000
TZNAME:CET
TZOFFSETTO:+0100
TZOFFSETFROM:+0100
END:STANDARD
END:VTIMEZONE
END:VCALENDAR
